BEGIN:VCALENDAR
VERSION:2.0
PRODID:-//Ski club de Meyrin, Genève, Suisse - ECPv6.15.13.1//NONSGML v1.0//EN
CALSCALE:GREGORIAN
METHOD:PUBLISH
X-WR-CALNAME:Ski club de Meyrin, Genève, Suisse
X-ORIGINAL-URL:https://www.scmeyrin.ch
X-WR-CALDESC:Évènements pour Ski club de Meyrin, Genève, Suisse
REFRESH-INTERVAL;VALUE=DURATION:PT1H
X-Robots-Tag:noindex
X-PUBLISHED-TTL:PT1H
BEGIN:VTIMEZONE
TZID:Europe/Zurich
BEGIN:DAYLIGHT
TZOFFSETFROM:+0100
TZOFFSETTO:+0200
TZNAME:CEST
DTSTART:20240331T010000
END:DAYLIGHT
BEGIN:STANDARD
TZOFFSETFROM:+0200
TZOFFSETTO:+0100
TZNAME:CET
DTSTART:20241027T010000
END:STANDARD
BEGIN:DAYLIGHT
TZOFFSETFROM:+0100
TZOFFSETTO:+0200
TZNAME:CEST
DTSTART:20250330T010000
END:DAYLIGHT
BEGIN:STANDARD
TZOFFSETFROM:+0200
TZOFFSETTO:+0100
TZNAME:CET
DTSTART:20251026T010000
END:STANDARD
BEGIN:DAYLIGHT
TZOFFSETFROM:+0100
TZOFFSETTO:+0200
TZNAME:CEST
DTSTART:20260329T010000
END:DAYLIGHT
BEGIN:STANDARD
TZOFFSETFROM:+0200
TZOFFSETTO:+0100
TZNAME:CET
DTSTART:20261025T010000
END:STANDARD
END:VTIMEZONE
BEGIN:VEVENT
DTSTART;VALUE=DATE:20251213
DTEND;VALUE=DATE:20251214
DTSTAMP:20260421T153908
CREATED:20241209T222326Z
LAST-MODIFIED:20251113T173028Z
UID:10000183-1765584000-1765670399@www.scmeyrin.ch
SUMMARY:Sortie à Avoriaz 2025
DESCRIPTION:Pour les membres. Inscriptions jusqu’au mercredi soir précédant la sortie ou par email à info@scmeyrin.ch. Env. 60.- CHF par sortie\, transport en car et abonnement journée inclus. Enfant jusqu’à 16 ans accompagné d’un adulte de la même famille: 15.- CHF (sans activités annexes).
URL:https://www.scmeyrin.ch/evenement/sortie-a-avoriaz-2025/
LOCATION:Avoriaz\, Avoriaz\, Morzine\, 74110\, France
CATEGORIES:Samedi pour les membres
ATTACH;FMTTYPE=image/jpeg:https://www.scmeyrin.ch/public/wp-content/uploads/avoriaz.jpg
ORGANIZER;CN="Ski Club de Meyrin":MAILTO:info@scmeyrin.ch
GEO:46.193476;6.7733352
END:VEVENT
END:VCALENDAR