BEGIN:VCALENDAR
VERSION:2.0
PRODID:-//Ski club de Meyrin, Genève, Suisse - ECPv6.15.13.1//NONSGML v1.0//EN
CALSCALE:GREGORIAN
METHOD:PUBLISH
X-ORIGINAL-URL:https://www.scmeyrin.ch
X-WR-CALDESC:Évènements pour Ski club de Meyrin, Genève, Suisse
REFRESH-INTERVAL;VALUE=DURATION:PT1H
X-Robots-Tag:noindex
X-PUBLISHED-TTL:PT1H
BEGIN:VTIMEZONE
TZID:Europe/Zurich
BEGIN:DAYLIGHT
TZOFFSETFROM:+0100
TZOFFSETTO:+0200
TZNAME:CEST
DTSTART:20250330T010000
END:DAYLIGHT
BEGIN:STANDARD
TZOFFSETFROM:+0200
TZOFFSETTO:+0100
TZNAME:CET
DTSTART:20251026T010000
END:STANDARD
BEGIN:DAYLIGHT
TZOFFSETFROM:+0100
TZOFFSETTO:+0200
TZNAME:CEST
DTSTART:20260329T010000
END:DAYLIGHT
BEGIN:STANDARD
TZOFFSETFROM:+0200
TZOFFSETTO:+0100
TZNAME:CET
DTSTART:20261025T010000
END:STANDARD
BEGIN:DAYLIGHT
TZOFFSETFROM:+0100
TZOFFSETTO:+0200
TZNAME:CEST
DTSTART:20270328T010000
END:DAYLIGHT
BEGIN:STANDARD
TZOFFSETFROM:+0200
TZOFFSETTO:+0100
TZNAME:CET
DTSTART:20271031T010000
END:STANDARD
END:VTIMEZONE
BEGIN:VEVENT
DTSTART;VALUE=DATE:20260110
DTEND;VALUE=DATE:20260111
DTSTAMP:20260421T140217
CREATED:20241209T222326Z
LAST-MODIFIED:20251114T171604Z
UID:10000184-1768003200-1768089599@www.scmeyrin.ch
SUMMARY:Sortie aux Houches 2026
DESCRIPTION:Pour les membres. Inscriptions jusqu’au mercredi soir précédant la sortie ou par email à info@scmeyrin.ch. Env. 60.- CHF par sortie\, transport en car et abonnement journée inclus. Enfant jusqu’à 16 ans accompagné d’un adulte de la même famille: 15.- CHF (sans activités annexes).
URL:https://www.scmeyrin.ch/evenement/sortie-aux-houches-2/
LOCATION:Les Houches\, Les Houches\, 74310\, France
CATEGORIES:Samedi pour les membres
ATTACH;FMTTYPE=image/jpeg:https://www.scmeyrin.ch/public/wp-content/uploads/houches.jpg
ORGANIZER;CN="Ski Club de Meyrin":MAILTO:info@scmeyrin.ch
GEO:45.9018461;6.8012212
END:VEVENT
BEGIN:VEVENT
DTSTART;VALUE=DATE:20260117
DTEND;VALUE=DATE:20260118
DTSTAMP:20260421T140217
CREATED:20241209T222326Z
LAST-MODIFIED:20251114T171811Z
UID:10000185-1768608000-1768694399@www.scmeyrin.ch
SUMMARY:Sortie aux Gets 2026
DESCRIPTION:Pour les membres. Inscriptions jusqu’au mercredi soir précédant la sortie ou par email à info@scmeyrin.ch. Env. 60.- CHF par sortie\, transport en car et abonnement journée inclus. Enfant jusqu’à 16 ans accompagné d’un adulte de la même famille: 15.- CHF (sans activités annexes).
URL:https://www.scmeyrin.ch/evenement/sortie-aux-gets-2026/
LOCATION:Les Gets\, Les Gets\, 74260\, France
CATEGORIES:Samedi pour les membres
ATTACH;FMTTYPE=image/jpeg:https://www.scmeyrin.ch/public/wp-content/uploads/gets.jpg
ORGANIZER;CN="Ski Club de Meyrin":MAILTO:info@scmeyrin.ch
END:VEVENT
BEGIN:VEVENT
DTSTART;VALUE=DATE:20260131
DTEND;VALUE=DATE:20260201
DTSTAMP:20260421T140217
CREATED:20241209T222326Z
LAST-MODIFIED:20251114T172020Z
UID:10000186-1769817600-1769903999@www.scmeyrin.ch
SUMMARY:Sortie à Courmayeur 2026
DESCRIPTION:Pour les membres. Inscriptions jusqu’au mercredi soir précédant la sortie ou par email à info@scmeyrin.ch. Env. 60.- CHF par sortie\, transport en car et abonnement journée inclus. Enfant jusqu’à 16 ans accompagné d’un adulte de la même famille: 15.- CHF (sans activités annexes).
URL:https://www.scmeyrin.ch/evenement/sortie-a-courmayeur-2026/
LOCATION:Courmayeur\, 11013\, Italy
CATEGORIES:Samedi pour les membres
ATTACH;FMTTYPE=image/jpeg:https://www.scmeyrin.ch/public/wp-content/uploads/courmayeur.jpg
ORGANIZER;CN="Ski Club de Meyrin":MAILTO:info@scmeyrin.ch
GEO:45.8246377;6.9737099
END:VEVENT
END:VCALENDAR