BEGIN:VCALENDAR
VERSION:2.0
PRODID:-//Ski club de Meyrin, Genève, Suisse - ECPv6.15.13.1//NONSGML v1.0//EN
CALSCALE:GREGORIAN
METHOD:PUBLISH
X-WR-CALNAME:Ski club de Meyrin, Genève, Suisse
X-ORIGINAL-URL:https://www.scmeyrin.ch
X-WR-CALDESC:Évènements pour Ski club de Meyrin, Genève, Suisse
REFRESH-INTERVAL;VALUE=DURATION:PT1H
X-Robots-Tag:noindex
X-PUBLISHED-TTL:PT1H
BEGIN:VTIMEZONE
TZID:Europe/Zurich
BEGIN:DAYLIGHT
TZOFFSETFROM:+0100
TZOFFSETTO:+0200
TZNAME:CEST
DTSTART:20250330T010000
END:DAYLIGHT
BEGIN:STANDARD
TZOFFSETFROM:+0200
TZOFFSETTO:+0100
TZNAME:CET
DTSTART:20251026T010000
END:STANDARD
BEGIN:DAYLIGHT
TZOFFSETFROM:+0100
TZOFFSETTO:+0200
TZNAME:CEST
DTSTART:20260329T010000
END:DAYLIGHT
BEGIN:STANDARD
TZOFFSETFROM:+0200
TZOFFSETTO:+0100
TZNAME:CET
DTSTART:20261025T010000
END:STANDARD
BEGIN:DAYLIGHT
TZOFFSETFROM:+0100
TZOFFSETTO:+0200
TZNAME:CEST
DTSTART:20270328T010000
END:DAYLIGHT
BEGIN:STANDARD
TZOFFSETFROM:+0200
TZOFFSETTO:+0100
TZNAME:CET
DTSTART:20271031T010000
END:STANDARD
END:VTIMEZONE
BEGIN:VEVENT
DTSTART;VALUE=DATE:20260214
DTEND;VALUE=DATE:20260215
DTSTAMP:20260421T122312
CREATED:20241209T222326Z
LAST-MODIFIED:20251114T172427Z
UID:10000187-1771027200-1771113599@www.scmeyrin.ch
SUMMARY:Sortie au Grand-Bornand 2026
DESCRIPTION:Pour les membres. Inscriptions jusqu’au mercredi soir précédant la sortie ou par email à info@scmeyrin.ch. Env. 60.- CHF par sortie\, transport en car et abonnement journée inclus. Enfant jusqu’à 16 ans accompagné d’un adulte de la même famille: 15.- CHF (sans activités annexes).
URL:https://www.scmeyrin.ch/evenement/sortie-au-grand-bornand-2026/
LOCATION:Le Grand-Bornand\, Le Grand-Bornand\, 74450\, France
CATEGORIES:Samedi pour les membres
ATTACH;FMTTYPE=image/jpeg:https://www.scmeyrin.ch/public/wp-content/uploads/skieur-grande-pente-sac-a.jpg
ORGANIZER;CN="Ski Club de Meyrin":MAILTO:info@scmeyrin.ch
GEO:45.942027;6.426699
END:VEVENT
BEGIN:VEVENT
DTSTART;VALUE=DATE:20260221
DTEND;VALUE=DATE:20260222
DTSTAMP:20260421T122312
CREATED:20241209T222326Z
LAST-MODIFIED:20251114T172727Z
UID:10000188-1771632000-1771718399@www.scmeyrin.ch
SUMMARY:Sortie à Megève 2026
DESCRIPTION:Pour les membres. Inscriptions jusqu’au mercredi soir précédant la sortie ou par email à info@scmeyrin.ch. Env. 60.- CHF par sortie\, transport en car et abonnement journée inclus. Enfant jusqu’à 16 ans accompagné d’un adulte de la même famille: 15.- CHF (sans activités annexes).
URL:https://www.scmeyrin.ch/evenement/sortie-a-megeve-2026/
LOCATION:Megève\, Megève\, 74120\, France
CATEGORIES:Samedi pour les membres
ATTACH;FMTTYPE=image/jpeg:https://www.scmeyrin.ch/public/wp-content/uploads/megeve.jpg
ORGANIZER;CN="Ski Club de Meyrin":MAILTO:info@scmeyrin.ch
END:VEVENT
BEGIN:VEVENT
DTSTART;VALUE=DATE:20260228
DTEND;VALUE=DATE:20260301
DTSTAMP:20260421T122312
CREATED:20241209T222326Z
LAST-MODIFIED:20251114T173044Z
UID:10000189-1772236800-1772323199@www.scmeyrin.ch
SUMMARY:Sortie à La Clusaz 2026
DESCRIPTION:Pour les membres. Inscriptions jusqu’au mercredi soir précédant la sortie ou par email à info@scmeyrin.ch. Env. 60.- CHF par sortie\, transport en car et abonnement journée inclus. Enfant jusqu’à 16 ans accompagné d’un adulte de la même famille: 15.- CHF (sans activités annexes).
URL:https://www.scmeyrin.ch/evenement/sortie-a-la-clusaz-2026/
LOCATION:La Clusaz\, La Clusaz\, 74220\, France
CATEGORIES:Samedi pour les membres
ATTACH;FMTTYPE=image/jpeg:https://www.scmeyrin.ch/public/wp-content/uploads/la_clusaz-2.jpg
ORGANIZER;CN="Ski Club de Meyrin":MAILTO:info@scmeyrin.ch
END:VEVENT
END:VCALENDAR